BEGIN:VCALENDAR
VERSION:2.0
PRODID:-//Cascade Amateur Radio Enthusiasts - ECPv6.15.20//NONSGML v1.0//EN
CALSCALE:GREGORIAN
METHOD:PUBLISH
X-ORIGINAL-URL:https://carehamradio.com
X-WR-CALDESC:Events for Cascade Amateur Radio Enthusiasts
REFRESH-INTERVAL;VALUE=DURATION:PT1H
X-Robots-Tag:noindex
X-PUBLISHED-TTL:PT1H
BEGIN:VTIMEZONE
TZID:America/Los_Angeles
BEGIN:DAYLIGHT
TZOFFSETFROM:-0800
TZOFFSETTO:-0700
TZNAME:PDT
DTSTART:20240310T100000
END:DAYLIGHT
BEGIN:STANDARD
TZOFFSETFROM:-0700
TZOFFSETTO:-0800
TZNAME:PST
DTSTART:20241103T090000
END:STANDARD
BEGIN:DAYLIGHT
TZOFFSETFROM:-0800
TZOFFSETTO:-0700
TZNAME:PDT
DTSTART:20250309T100000
END:DAYLIGHT
BEGIN:STANDARD
TZOFFSETFROM:-0700
TZOFFSETTO:-0800
TZNAME:PST
DTSTART:20251102T090000
END:STANDARD
BEGIN:DAYLIGHT
TZOFFSETFROM:-0800
TZOFFSETTO:-0700
TZNAME:PDT
DTSTART:20260308T100000
END:DAYLIGHT
BEGIN:STANDARD
TZOFFSETFROM:-0700
TZOFFSETTO:-0800
TZNAME:PST
DTSTART:20261101T090000
END:STANDARD
END:VTIMEZONE
BEGIN:VEVENT
DTSTART;TZID=America/Los_Angeles:20251016T101600
DTEND;TZID=America/Los_Angeles:20251016T161600
DTSTAMP:20260423T185947
CREATED:20251014T021004Z
LAST-MODIFIED:20251014T021004Z
UID:2651-1760609760-1760631360@carehamradio.com
SUMMARY:Oregon Shake UP - - - IFKYK
DESCRIPTION:Baldy Repeater 146.840 \nCP/MED ERC NET 145.41 \nCP/MED – SIMPLEX 147.585
URL:https://carehamradio.com/event/oregon-shake-up-ifkyk/
LOCATION:OR
END:VEVENT
END:VCALENDAR