BEGIN:VCALENDAR
VERSION:2.0
PRODID:-//Cascade Amateur Radio Enthusiasts - ECPv6.15.20//NONSGML v1.0//EN
CALSCALE:GREGORIAN
METHOD:PUBLISH
X-WR-CALNAME:Cascade Amateur Radio Enthusiasts
X-ORIGINAL-URL:https://carehamradio.com
X-WR-CALDESC:Events for Cascade Amateur Radio Enthusiasts
REFRESH-INTERVAL;VALUE=DURATION:PT1H
X-Robots-Tag:noindex
X-PUBLISHED-TTL:PT1H
BEGIN:VTIMEZONE
TZID:America/Los_Angeles
BEGIN:DAYLIGHT
TZOFFSETFROM:-0800
TZOFFSETTO:-0700
TZNAME:PDT
DTSTART:20230312T100000
END:DAYLIGHT
BEGIN:STANDARD
TZOFFSETFROM:-0700
TZOFFSETTO:-0800
TZNAME:PST
DTSTART:20231105T090000
END:STANDARD
BEGIN:DAYLIGHT
TZOFFSETFROM:-0800
TZOFFSETTO:-0700
TZNAME:PDT
DTSTART:20240310T100000
END:DAYLIGHT
BEGIN:STANDARD
TZOFFSETFROM:-0700
TZOFFSETTO:-0800
TZNAME:PST
DTSTART:20241103T090000
END:STANDARD
BEGIN:DAYLIGHT
TZOFFSETFROM:-0800
TZOFFSETTO:-0700
TZNAME:PDT
DTSTART:20250309T100000
END:DAYLIGHT
BEGIN:STANDARD
TZOFFSETFROM:-0700
TZOFFSETTO:-0800
TZNAME:PST
DTSTART:20251102T090000
END:STANDARD
END:VTIMEZONE
BEGIN:VEVENT
DTSTART;TZID=America/Los_Angeles:20240601T090000
DTEND;TZID=America/Los_Angeles:20240601T140000
DTSTAMP:20260423T163822
CREATED:20240415T190258Z
LAST-MODIFIED:20240415T193939Z
UID:1910-1717232400-1717250400@carehamradio.com
SUMMARY:SWAP MEET - Southern Oregon Amateur Radio Club
DESCRIPTION:Grants Pass Radio Club is hosting a SWAP meet\nat the Fruitdale Grange Parking Lot – Plenty of\nspace is available for Vendors.\nAddress is – 1440 Parkdale Dr\, Grants Pass\, OR 97527\nSetup at 8-9 is Swap is from 10-2 ish
URL:https://carehamradio.com/event/swap-meet-southern-oregon-amateur-radio-club/
LOCATION:OR
END:VEVENT
END:VCALENDAR