BEGIN:VCALENDAR
VERSION:2.0
PRODID:-//Cascade Amateur Radio Enthusiasts - ECPv6.15.20//NONSGML v1.0//EN
CALSCALE:GREGORIAN
METHOD:PUBLISH
X-ORIGINAL-URL:https://carehamradio.com
X-WR-CALDESC:Events for Cascade Amateur Radio Enthusiasts
REFRESH-INTERVAL;VALUE=DURATION:PT1H
X-Robots-Tag:noindex
X-PUBLISHED-TTL:PT1H
BEGIN:VTIMEZONE
TZID:America/Los_Angeles
BEGIN:DAYLIGHT
TZOFFSETFROM:-0800
TZOFFSETTO:-0700
TZNAME:PDT
DTSTART:20230312T100000
END:DAYLIGHT
BEGIN:STANDARD
TZOFFSETFROM:-0700
TZOFFSETTO:-0800
TZNAME:PST
DTSTART:20231105T090000
END:STANDARD
BEGIN:DAYLIGHT
TZOFFSETFROM:-0800
TZOFFSETTO:-0700
TZNAME:PDT
DTSTART:20240310T100000
END:DAYLIGHT
BEGIN:STANDARD
TZOFFSETFROM:-0700
TZOFFSETTO:-0800
TZNAME:PST
DTSTART:20241103T090000
END:STANDARD
BEGIN:DAYLIGHT
TZOFFSETFROM:-0800
TZOFFSETTO:-0700
TZNAME:PDT
DTSTART:20250309T100000
END:DAYLIGHT
BEGIN:STANDARD
TZOFFSETFROM:-0700
TZOFFSETTO:-0800
TZNAME:PST
DTSTART:20251102T090000
END:STANDARD
BEGIN:DAYLIGHT
TZOFFSETFROM:-0800
TZOFFSETTO:-0700
TZNAME:PDT
DTSTART:20260308T100000
END:DAYLIGHT
BEGIN:STANDARD
TZOFFSETFROM:-0700
TZOFFSETTO:-0800
TZNAME:PST
DTSTART:20261101T090000
END:STANDARD
END:VTIMEZONE
BEGIN:VTIMEZONE
TZID:America/Los_Angeles
BEGIN:DAYLIGHT
TZOFFSETFROM:-0800
TZOFFSETTO:-0700
TZNAME:PDT
DTSTART:20230312T100000
END:DAYLIGHT
BEGIN:STANDARD
TZOFFSETFROM:-0700
TZOFFSETTO:-0800
TZNAME:PST
DTSTART:20231105T090000
END:STANDARD
BEGIN:DAYLIGHT
TZOFFSETFROM:-0800
TZOFFSETTO:-0700
TZNAME:PDT
DTSTART:20240310T100000
END:DAYLIGHT
BEGIN:STANDARD
TZOFFSETFROM:-0700
TZOFFSETTO:-0800
TZNAME:PST
DTSTART:20241103T090000
END:STANDARD
BEGIN:DAYLIGHT
TZOFFSETFROM:-0800
TZOFFSETTO:-0700
TZNAME:PDT
DTSTART:20250309T100000
END:DAYLIGHT
BEGIN:STANDARD
TZOFFSETFROM:-0700
TZOFFSETTO:-0800
TZNAME:PST
DTSTART:20251102T090000
END:STANDARD
BEGIN:DAYLIGHT
TZOFFSETFROM:-0800
TZOFFSETTO:-0700
TZNAME:PDT
DTSTART:20260308T100000
END:DAYLIGHT
BEGIN:STANDARD
TZOFFSETFROM:-0700
TZOFFSETTO:-0800
TZNAME:PST
DTSTART:20261101T090000
END:STANDARD
END:VTIMEZONE
BEGIN:VEVENT
DTSTART;VALUE=DATE:20250627
DTEND;VALUE=DATE:20250630
DTSTAMP:20260423T101836
CREATED:20240219T183324Z
LAST-MODIFIED:20250614T005915Z
UID:1355-1750982400-1751241599@carehamradio.com
SUMMARY:Field Day 2025 - SITE HAS CHANGED !!!!
DESCRIPTION:Due to unforeseen circumstances  the site location has  changed
URL:https://carehamradio.com/event/field-day-2025/
LOCATION:FIELD DAY SITE\, 3300 E. Antelope Road\, Eagle Point\, OR\, 97524\, United States
ORGANIZER;CN="Michel Fowler":MAILTO:nsevenxbj@gmail.com
END:VEVENT
BEGIN:VEVENT
DTSTART;TZID=America/Los_Angeles:20250621T083000
DTEND;TZID=America/Los_Angeles:20250621T130000
DTSTAMP:20260423T101836
CREATED:20250604T020614Z
LAST-MODIFIED:20250604T020614Z
UID:2530-1750494600-1750510800@carehamradio.com
SUMMARY:Eugene/Springfield HAM SWAP
DESCRIPTION:Oregon Electronics is hosting the Swap in its parking lot\nBring your own table to display your Ham and Ham Radio related electronics.\n\nAn unattended common table will be provided for sellers with only a few items.\n\nThe Eugene/Springfield HAM Swap is a joint activity of the Emerald Amateur Radio Society and the Valley Radio Club of Oregon.
URL:https://carehamradio.com/event/eugene-springfield-ham-swap/
LOCATION:Oregon Electronics\, 975 Conger St.\, Eugene\, OR\, 97405\, United States
END:VEVENT
BEGIN:VEVENT
DTSTART;TZID=America/Los_Angeles:20250606T080000
DTEND;TZID=America/Los_Angeles:20250607T140000
DTSTAMP:20260423T101836
CREATED:20240415T193919Z
LAST-MODIFIED:20260303T041642Z
UID:1919-1749196800-1749304800@carehamradio.com
SUMMARY:SEA-PAC Hamfest and ARRL Northwestern Division Convention
DESCRIPTION:Seaside Convention Center\, Seaside\, Oregon\ninfo@seapac.org . www.seapac.org/
URL:https://carehamradio.com/event/sea-pac-hamfest-and-arrl-northwestern-division-convention/
LOCATION:Seaside Convention Center\, 415 First Ave\, Seside\, OR\, 97138\, United States
ORGANIZER;CN="Michel Fowler":MAILTO:nsevenxbj@gmail.com
END:VEVENT
BEGIN:VEVENT
DTSTART;TZID=America/Los_Angeles:20241012T113000
DTEND;TZID=America/Los_Angeles:20241012T150000
DTSTAMP:20260423T101836
CREATED:20240912T061718Z
LAST-MODIFIED:20241004T162830Z
UID:2179-1728732600-1728745200@carehamradio.com
SUMMARY:CARE Club Picnic and Foxhunt
DESCRIPTION:Be READY to Find that FOX!!!! \nDon’t forget to bring a side dish if your last name starts with \nthe letter A-M or a Dessert if it starts with N-Z
URL:https://carehamradio.com/event/care-club-picnic-and-foxhunt/
LOCATION:Donahue Frohnmayer Park\, 1687 Spring St\, Medford\, OR\, United States
END:VEVENT
BEGIN:VEVENT
DTSTART;TZID=America/Los_Angeles:20240601T090000
DTEND;TZID=America/Los_Angeles:20240601T140000
DTSTAMP:20260423T101836
CREATED:20240415T190258Z
LAST-MODIFIED:20240415T193939Z
UID:1910-1717232400-1717250400@carehamradio.com
SUMMARY:SWAP MEET - Southern Oregon Amateur Radio Club
DESCRIPTION:Grants Pass Radio Club is hosting a SWAP meet\nat the Fruitdale Grange Parking Lot – Plenty of\nspace is available for Vendors.\nAddress is – 1440 Parkdale Dr\, Grants Pass\, OR 97527\nSetup at 8-9 is Swap is from 10-2 ish
URL:https://carehamradio.com/event/swap-meet-southern-oregon-amateur-radio-club/
LOCATION:OR
END:VEVENT
END:VCALENDAR