BEGIN:VCALENDAR
VERSION:2.0
PRODID:-//Cascade Amateur Radio Enthusiasts - ECPv6.15.20//NONSGML v1.0//EN
CALSCALE:GREGORIAN
METHOD:PUBLISH
X-ORIGINAL-URL:https://carehamradio.com
X-WR-CALDESC:Events for Cascade Amateur Radio Enthusiasts
REFRESH-INTERVAL;VALUE=DURATION:PT1H
X-Robots-Tag:noindex
X-PUBLISHED-TTL:PT1H
BEGIN:VTIMEZONE
TZID:America/Los_Angeles
BEGIN:DAYLIGHT
TZOFFSETFROM:-0800
TZOFFSETTO:-0700
TZNAME:PDT
DTSTART:20240310T100000
END:DAYLIGHT
BEGIN:STANDARD
TZOFFSETFROM:-0700
TZOFFSETTO:-0800
TZNAME:PST
DTSTART:20241103T090000
END:STANDARD
BEGIN:DAYLIGHT
TZOFFSETFROM:-0800
TZOFFSETTO:-0700
TZNAME:PDT
DTSTART:20250309T100000
END:DAYLIGHT
BEGIN:STANDARD
TZOFFSETFROM:-0700
TZOFFSETTO:-0800
TZNAME:PST
DTSTART:20251102T090000
END:STANDARD
BEGIN:DAYLIGHT
TZOFFSETFROM:-0800
TZOFFSETTO:-0700
TZNAME:PDT
DTSTART:20260308T100000
END:DAYLIGHT
BEGIN:STANDARD
TZOFFSETFROM:-0700
TZOFFSETTO:-0800
TZNAME:PST
DTSTART:20261101T090000
END:STANDARD
END:VTIMEZONE
BEGIN:VEVENT
DTSTART;TZID=America/Los_Angeles:20251213T160000
DTEND;TZID=America/Los_Angeles:20251213T200000
DTSTAMP:20260423T145359
CREATED:20241015T041244Z
LAST-MODIFIED:20251011T023506Z
UID:2216-1765641600-1765656000@carehamradio.com
SUMMARY:CARE Ham Radio Club ANNUAL Christmas Party
DESCRIPTION:MERRY CHRISTMAS \nCome One\, Come ALL…. \nBring the Family !!!! \nWhite Elephant Gift Exchange \nREGISTER HERE – REGISTRATION FORM – REGISTER HERE \n 
URL:https://carehamradio.com/event/care-ham-radio-club-annual-christmas-party/
LOCATION:Roxy Ann Grange\, 1850 Spring St.\, Medford\, OR\, 97504\, United States
ORGANIZER;CN="Michel Fowler":MAILTO:nsevenxbj@gmail.com
END:VEVENT
END:VCALENDAR