BEGIN:VCALENDAR
VERSION:2.0
PRODID:-//Cascade Amateur Radio Enthusiasts - ECPv6.15.20//NONSGML v1.0//EN
CALSCALE:GREGORIAN
METHOD:PUBLISH
X-WR-CALNAME:Cascade Amateur Radio Enthusiasts
X-ORIGINAL-URL:https://carehamradio.com
X-WR-CALDESC:Events for Cascade Amateur Radio Enthusiasts
REFRESH-INTERVAL;VALUE=DURATION:PT1H
X-Robots-Tag:noindex
X-PUBLISHED-TTL:PT1H
BEGIN:VTIMEZONE
TZID:America/Los_Angeles
BEGIN:DAYLIGHT
TZOFFSETFROM:-0800
TZOFFSETTO:-0700
TZNAME:PDT
DTSTART:20250309T100000
END:DAYLIGHT
BEGIN:STANDARD
TZOFFSETFROM:-0700
TZOFFSETTO:-0800
TZNAME:PST
DTSTART:20251102T090000
END:STANDARD
BEGIN:DAYLIGHT
TZOFFSETFROM:-0800
TZOFFSETTO:-0700
TZNAME:PDT
DTSTART:20260308T100000
END:DAYLIGHT
BEGIN:STANDARD
TZOFFSETFROM:-0700
TZOFFSETTO:-0800
TZNAME:PST
DTSTART:20261101T090000
END:STANDARD
BEGIN:DAYLIGHT
TZOFFSETFROM:-0800
TZOFFSETTO:-0700
TZNAME:PDT
DTSTART:20270314T100000
END:DAYLIGHT
BEGIN:STANDARD
TZOFFSETFROM:-0700
TZOFFSETTO:-0800
TZNAME:PST
DTSTART:20271107T090000
END:STANDARD
END:VTIMEZONE
BEGIN:VTIMEZONE
TZID:America/Los_Angeles
BEGIN:DAYLIGHT
TZOFFSETFROM:-0800
TZOFFSETTO:-0700
TZNAME:PDT
DTSTART:20250309T100000
END:DAYLIGHT
BEGIN:STANDARD
TZOFFSETFROM:-0700
TZOFFSETTO:-0800
TZNAME:PST
DTSTART:20251102T090000
END:STANDARD
BEGIN:DAYLIGHT
TZOFFSETFROM:-0800
TZOFFSETTO:-0700
TZNAME:PDT
DTSTART:20260308T100000
END:DAYLIGHT
BEGIN:STANDARD
TZOFFSETFROM:-0700
TZOFFSETTO:-0800
TZNAME:PST
DTSTART:20261101T090000
END:STANDARD
BEGIN:DAYLIGHT
TZOFFSETFROM:-0800
TZOFFSETTO:-0700
TZNAME:PDT
DTSTART:20270314T100000
END:DAYLIGHT
BEGIN:STANDARD
TZOFFSETFROM:-0700
TZOFFSETTO:-0800
TZNAME:PST
DTSTART:20271107T090000
END:STANDARD
END:VTIMEZONE
BEGIN:VEVENT
DTSTART;TZID=America/Los_Angeles:20260303T190000
DTEND;TZID=America/Los_Angeles:20260303T203000
DTSTAMP:20260423T102601
CREATED:20240325T154740Z
LAST-MODIFIED:20260224T162328Z
UID:1872-1772564400-1772569800@carehamradio.com
SUMMARY:RV Amateur Radio Club Meeting - March 3rd TUESDAY **Jacksonville Library**
DESCRIPTION:Presentation will be Lyle Hood WB7VUF\nSatellite Communications\n\nJacksonville Library\nGo to https://k7mfr.org/ to learn more
URL:https://carehamradio.com/event/rogue-valley-amateur-radio-club-meeting/
LOCATION:Jacksonville Library\, 340 W C St\, Jacksonville\, 97530\, United States
ORGANIZER;CN="Michel Fowler":MAILTO:nsevenxbj@gmail.com
END:VEVENT
BEGIN:VEVENT
DTSTART;TZID=America/Los_Angeles:20260312T173000
DTEND;TZID=America/Los_Angeles:20260312T200000
DTSTAMP:20260423T102601
CREATED:20240627T164035Z
LAST-MODIFIED:20260224T174853Z
UID:2105-1773336600-1773345600@carehamradio.com
SUMMARY:CARE Club Monthly Meeting - March 12th - THURSDAY
DESCRIPTION:Presentation on Meshcore/Meshtastic \nDewey -KM7DEW \nTHURSDAY !!! \nFirst Time Visitors get a FREE raffle ticket.
URL:https://carehamradio.com/event/care-club-monthly-meeting-july-10th/
LOCATION:Fiesta Mexican Restaurant\, 1016 North Riverside Avenue\, Medford\, OR\, 97501\, United States
ORGANIZER;CN="Michel Fowler":MAILTO:nsevenxbj@gmail.com
END:VEVENT
BEGIN:VEVENT
DTSTART;TZID=America/Los_Angeles:20260314T090000
DTEND;TZID=America/Los_Angeles:20260314T150000
DTSTAMP:20260423T102601
CREATED:20240219T182358Z
LAST-MODIFIED:20260303T032206Z
UID:1348-1773478800-1773500400@carehamradio.com
SUMMARY:Radio and Electronics SWAP Meet - 3rd Annual -CONFIRMED
DESCRIPTION:Spaces Inside by reservation ONLY ! \nContact Mike Fowler at : \nnsevenxbj@gmail.com \n541-821-1225 \nor on the 145.410 repeater or Valley Simplex 147.585 \nSWAP MEET FLYER FOR PASSING OUT OR DISTRIBUTING \nLINK HERE \n 
URL:https://carehamradio.com/event/radio-and-electronics-swap-meet/
LOCATION:Summit Street Center\, 930 Summit Ave\, Medford\, OR\, United States
END:VEVENT
END:VCALENDAR